Workbook

Sheet 0. Lijst van componenten
A1: Welkom bij CInfra
A3: Vul alle componenten van de nieuwe constructie in | H3: Stap voor Stap
L4: 1
A5: Nummer | B5: Naam van component | C5: Materiaal | D5: Hoeveelheid | E5: Eenheid | F5: l | H5: Stappen om de tool in te vullen:
A6: 1 | B6: Asfalt rijbaan | C6: Asfalt | E6: kg | F6: kg | H6: 0. | I6: Scoor elk individueel component van de constructie
A7: 2 | B7: Asfalt fietsstrook | C7: Asfalt | E7: kg | H7: 1. | I7: Kies een component
A8: 3 | B8: Markering rijbaan | C8: Thermoplastmarkering | H8: 2. | I8: Ga naar 1. Beslissingspunt
A9: 4 | B9: Kolken in rijbaan | C9: Gietijzer en kunststof | H9: 3. | I9: Klik op de beste optie
A10: 5 | B10: Middengeleiders | C10: Kleurvaste gele betonstraatstenen | H10: 4. | I10: Je wordt gelinkt naar de best passende groep van indicatoren
A11: 6 | B11: Trottoir | C11: Beton trottoirtegels | H11: 5. | I11: Selecteer 1 voor de optie die het beste past
A12: 7 | H12: 6. | I12: * "1" gekozen optie
A13: 8 | I13: * "leeg" niet gekozen optie
A14: 9 | I14: Onder de indicatoren kan je de score zien
A15: 10 | H15: 7. | I15: Ga naar 5. Resultaten
A16: 11 | H16: 8. | I16: Vul de tabel voor componenten in
A17: 12 | H17: 9. | I17: Scoor de volgende componenten en verwerk de resultaten in 5. Resultaten
A18: 13 | H18: 10. | I18: Check de totale score van het project in 5. Resultaten
A19: 14
A20: 15
A21: 16
A22: 17
A23: 18
A24: 19
A25: 20
A26: 21
A27: 22
A28: 23
A29: 24
A30: 25
... A56: 51

Sheet 1. Beslissingpunt
B2: Stap 1.
A4: 1. BESLISSINGSPUNT
B5: Klik op de beste optie
A6: Is het materiaal: | B6: Eerstehands (nieuw) | D6: * Vul alleen "3.3 Ontwerp" in
B7: Tweedehands | D7: *Ga verder met beslissingspunt 2.

Sheet 2. Beslissingpunt
A2: 2. BESLISSINGSPUNT
B3: Klik op de beste optie
A4: Is het tweedehands materiaal herbruikbaar? | B4: JA | C4: *Ja, ga verder met indicatoren: 3.1 + 3.2 + 3.3
B5: NEE | C5: *Nee, ga direct naar "4. Onherbruikbaar materiaal scoren"

Sheet 3. Herbruikbaar
A1: 3. Tweedehands herbruikbaar materiaal
A2: 10R | B2: Componenten circulariteitsindicatoren | C2: Mogelijke antwoorden (opties) | D2: In-vul-kolom | E2: Waarde van optie | F2: Waarde van indicator | G2: Waarde van optie x Waarde van indicator
B4: 3.1 Extractie uit een bestaande constructie | F4: 100 Punten
A5: Redesign | B5: Losmaakbaarheid en verbindingstypes | C5: Droge verbinding (materialen zijn niet verbonden, ze liggen op elkaar) | D5: 1 | E5: 1 | F5: 50 | G5: =D5*E5*$F$5 -> 50
C6: Demontabel met basis gereedschap - bouten en moeren - hoekverbinding - schroeven | E6: 0.9 | G6: =D6*E6*$F$5 -> 0
C7: Directe integrale verbinding (demontabel met speciaal gereedschap) - pin connectie - spijker connectie | E7: 0.5 | G7: =D7*E7*$F$5 -> 0
C8: Chemische connectie (demontabel met speciaal gereedschap) - lijm - kit - PUR-schuim | E8: 0.2 | G8: =D8*E8*$F$5 -> 0
C9: Niet demonteerbaar | E9: 0 | G9: =D9*E9*$F$5 -> 0
A11: Repair | B11: Materiaal vervuiling | C11: Materiaal is niet vervuild | E11: 1 | F11: 15 | G11: =D11*E11*$F$11 -> 0
C12: Material is niet vervuild na bewerking | E12: 0.6 | G12: =D12*E12*$F$11 -> 0
C13: Vervuild zonder functionele impact | E13: 0.3 | G13: =D13*E13*$F$11 -> 0
C14: Vervuild met functionele impact (niet schoon te maken) | D14: 1 | E14: 0 | G14: =D14*E14*$F$11 -> 0
A16: Recycle | B16: Afval gegenereerd tijdens extractie van de constructie | C16: < 5% van geëxtraheerd materiaal naar vuilstort | E16: 1 | F16: 25 | G16: =D16*E16*$F$16 -> 0
C17: < 10% van geëxtraheerd materiaal naar vuilstort | E17: 0.75 | G17: =D17*E17*$F$16 -> 0
C18: < 25% van geëxtraheerd materiaal naar vuilstort | E18: 0.5 | G18: =D18*E18*$F$16 -> 0
C19: < 50% van geëxtraheerd materiaal naar vuilstort | E19: 0.25 | G19: =D19*E19*$F$16 -> 0
C20: > 50% van geëxtraheerd materiaal naar vuilstort | D20: 1 | E20: 0 | G20: =D20*E20*$F$16 -> 0
A22: Reduce | B22: Type transport | C22: Makkelijk, transporteerbaar met een vrachtwagen and laadbaar met handmatig gereedschap | E22: 1 | F22: 5 | G22: =D22*E22*$F$22 -> 0
C23: Medium, transporteerbaar met een vrachtwagen, laadbaar door zware techniek | D23: 1 | E23: 0.75 | G23: =D23*E23*$F$22 -> 3.75
C24: Moeilijk, met behulp van een kraan | E24: 0.45 | G24: =D24*E24*$F$22 -> 0
C25: Zeer moeilijk, met behulp van een kraan, transporteerbaar met speciale transport voertuigen | E25: 0 | G25: =D25*E25*$F$22 -> 0
A27: Reduce | B27: Afstand van transport | C27: Hergebruik in hetzelfde project | E27: 1 | F27: 5 | G27: =D27*E27*$F$27 -> 0
C28: < 25 km | E28: 0.75 | G28: =D28*E28*$F$27 -> 0
C29: < 100 km | E29: 0.3 | G29: =D29*E29*$F$27 -> 0
C30: > 100 km | D30: 1 | E30: 0 | G30: =D30*E30*$F$27 -> 0
G31: =SUM(G5:G30) -> 53.75
B32: 3.2 Hergebruik materiaal | F32: 110 Punten
A33: Re-use | B33: Fysieke achteruitgang van een component, waardoor een lagere geschiktheid voor hergebruik onstaat | C33: Geen, direct herbruikbaar | E33: 1 | F33: 45 | G33: =D33*E33*$F$33 -> 0
C34: Laag, herbruikbaar met kleine reparaties ter plaatse | E34: 0.8 | G34: =D34*E34*$F$33 -> 0
C35: Medium, geen reparatie ter plaatse mogelijk, component moet terug naar de fabriek | E35: 0.4 | G35: =D35*E35*$F$33 -> 0
C36: Risicovol, recycle of vuilstort. Reparatie is niet aanbevolen | D36: 1 | E36: 0 | G36: =D36*E36*$F$33 -> 0
A38: Redesign | B38: Component bestaat uit gestandaardiseerde elementen | C38: Volledig 100% | E38: 1 | F38: 35 | G38: =D38*E38*$F$38 -> 0
C39: Grotendeels > 80% | D39: 1 | E39: 0.7 | G39: =D39*E39*$F$38 -> 24.5
C40: Gedeeltelijk > 50% | E40: 0.4 | G40: =D40*E40*$F$38 -> 0
C41: Niet < 50% | E41: 0 | G41: =D41*E41*$F$38 -> 0
A43: Refuse | B43: Digitale ondersteuning | C43: Geïntegreerd in een BIM-model met specificaties van het materiaal | E43: 1 | F43: 30 | G43: =D43*E43*$F$43 -> 0
C44: Materialenpaspoort | E44: 0.9 | G44: =D44*E44*$F$43 -> 0
C45: Technische tekening | D45: 1 | E45: 0.5 | G45: =D45*E45*$F$43 -> 15
C46: Niet traceerbaar | E46: 0 | G46: =D46*E46*$F$43 -> 0
G47: =SUM(G33:G46) -> 39.5
B48: 3.3 Ontwerp | F48: 140 Punten
A49: Re-use | B49: Ontwerp voor onderhoudsgemak en herstelbaarheid | C49: Ja, onderhoud en hergebruik is relatief makkelijk omdat de componenten makkelijk te bereiken zijn | E49: 1 | F49: 40 | G49: =D49*E49*$F$49 -> 0
C50: Gedeeltelijk, onderhoud en hergebruik is mogelijk | D50: 1 | E50: 0.65 | G50: =D50*E50*$F$49 -> 26
C51: Nee, het ontwerp heeft geen mogelijkheden voor onderhoud en hergebruik | E51: 0 | G51: =D51*E51*$F$49 -> 0
B53: Toekomstgericht ontwerp | C53: Re-use voor meer dan 20 jaar | E53: 1 | F53: 45 | G53: =D53*E53*$F$53 -> 0
C54: Re-use voor minder dan 20 jaar | E54: 0.6 | G54: =D54*E54*$F$53 -> 0
C55: Recycle | E55: 0.4 | G55: =D55*E55*$F$53 -> 0
C56: Recover | E56: 0.2 | G56: =D56*E56*$F$53 -> 0
C57: Vuilstort | D57: 1 | E57: 0 | G57: =D57*E57*$F$53 -> 0
A59: Refuse | B59: Communicatie met gebruikers over mogelijkheden tot hergebruik, recycling of afvalscheiding | C59: Ja, met concrete oplossingen | D59: 1 | E59: 1 | F59: 20 | G59: =D59*E59*$F$59 -> 20
C60: Ja, zonder concrete oplossingen | E60: 0.5 | G60: =D60*E60*$F$59 -> 0
C61: Nee | E61: 0 | G61: =D61*E61*$F$59 -> 0
A63: Redesign | B63: Component is ontworpen met uniforme materialen die makkelijk te vervangen zijn | C63: Volledig | E63: 1 | F63: 35 | G63: =D63*E63*$F$63 -> 0
C64: Grotendeels | E64: 0.67 | G64: =D64*E64*$F$63 -> 0
C65: Gedeeltelijk | D65: 1 | E65: 0.33 | G65: =D65*E65*$F$63 -> 11.55
C66: Niet | E66: 0 | G66: =D66*E66*$F$63 -> 0
G67: =SUM(G49:G66) -> 57.55
E68: Totale score van het component | G68: =G67+G47+G31 -> 150.8
E69: Maximum score | G69: 350
G71: Klik hier om naar de resultaten te gaan
D72: 300
D73: 250
D74: 200
D75: 150
D76: 100
D77: 50
D78: 0

Sheet 3.3 Ontwerp
A1: 3. Eerstehands (nieuw) materiaal
A2: 10R | B2: Componenten circulariteitsindicatoren | C2: Mogelijke antwoorden (opties) | D2: In-vul-kolom | E2: Waarde van optie | F2: Waarde van indicator | G2: Waarde van optie x Waarde van indicator | L2: 1
B4: 3.3 Ontwerp | F4: 140 Punten
A5: Re-use | B5: Ontwerp voor onderhoudsgemak en herstelbaarheid | C5: Ja, onderhoud en hergebruik is relatief makkelijk omdat de componenten makkelijk te bereiken zijn | E5: 1 | F5: 40 | G5: =D5*E5*$F$5 -> 0
C6: Gedeeltelijk, onderhoud en hergebruik is mogelijk | E6: 0.65 | G6: =D6*E6*$F$5 -> 0
C7: Nee, het ontwerp heeft geen mogelijkheden voor onderhoud en hergebruik | E7: 0 | G7: =D7*E7*$F$5 -> 0
B9: Ontwerp voor de toekomst | C9: Re-use voor meer dan 20 jaar | E9: 1 | F9: 45 | G9: =D9*E9*$F$9 -> 0
C10: Re-use voor minder dan 20 jaar | E10: 0.6 | G10: =D10*E10*$F$9 -> 0
C11: Recycle | E11: 0.4 | G11: =D11*E11*$F$9 -> 0
C12: Recover | E12: 0.2 | G12: =D12*E12*$F$9 -> 0
C13: Vuilstort | E13: 0 | G13: =D13*E13*$F$9 -> 0
A15: Refuse | B15: Communicatie met gebruikers over mogelijkheden tot hergebruik, recycling of afvalscheiding | C15: Ja, met concrete oplossingen | E15: 1 | F15: 20 | G15: =D15*E15*$F$15 -> 0
C16: Ja, zonder concrete oplossingen | E16: 0.5 | G16: =D16*E16*$F$15 -> 0
C17: Nee | E17: 0 | G17: =D17*E17*$F$15 -> 0
A19: Redesign | B19: Component is ontworpen met uniforme materialen die makkelijk te vervangen zijn | C19: Volledig | E19: 1 | F19: 35 | G19: =D19*E19*$F$19 -> 0
C20: Grotendeels | E20: 0.67 | G20: =D20*E20*$F$19 -> 0
C21: Gedeeltelijk | E21: 0.33 | G21: =D21*E21*$F$19 -> 0
C22: Niet | E22: 0 | G22: =D22*E22*$F$19 -> 0
G23: =SUM(G5:G22) -> 0
E25: Totale score van het component | G25: 80
E26: Maximum score | G26: 140
G28: Klik hier om naar de resultaten te gaan
D29: 120
D30: 100
D31: 80
D32: 60
D33: 40
D34: 20
D35: 0

Sheet 4. Niet herbruikbaar
A1: 4. Tweedehands niet herbruikbaar materiaal
A2: 10R | B2: Componenten circulariteitsindicatoren | C2: Mogelijke antwoorden (opties) | D2: In-vul-kolom | E2: Waarde van optie | F2: Waarde van indicator | G2: Waarde van optie x Waarde van indicator
M3: Dit moet blijven staan voor de formule
B4: 4. Onherbruikbaar materiaal | F4: 70 Punten | M4: 1
A5: Recycle | B5: Scheidbaarheid van het afval | C5: Volledig en makkelijk te scheiden | E5: 1 | F5: 35 | G5: =D5*E5*$F$5 -> 0
C6: Volledig te scheiden met gespecialiseerd gereedschap | E6: 0.75 | G6: =D6*E6*$F$5 -> 0
C7: Gedeeltelijk te scheiden | E7: 0.5 | G7: =D7*E7*$F$5 -> 0
C8: Gedeeltelijk te scheiden met gespecialiseerd gereedschap | E8: 0.25 | G8: =D8*E8*$F$5 -> 0
C9: Niet te scheiden | E9: 0 | G9: =D9*E9*$F$5 -> 0
A11: Recycle | B11: Technische recyclebaarheid | C11: Volledig recyclebaar | E11: 1 | F11: 35 | G11: =D11*E11*$F$11 -> 0
C12: > 75 % recyclebaar | E12: 0.75 | G12: =D12*E12*$F$11 -> 0 | J12: No
C13: > 50 % recyclebaar | E13: 0.5 | G13: =D13*E13*$F$11 -> 0 | P13: =SUM(G5:G30) -> 70
C14: > 25 % recyclebaar | E14: 0.25 | G14: =D14*E14*$F$11 -> 0
C15: Niet recyclebaar | E15: 0 | G15: =D15*E15*$F$11 -> 0
G16: =SUM(G5:G15) -> 0
E18: Totale score van het component | G18: =G16 -> 0
E19: Maximum score | G19: 70
G21: Klik hier om naar de resultaten te gaan
D22: 60
D23: 50
D24: 40
D25: 30
D26: 20
D27: 10
D28: 0

Sheet 5. Resultaten
A1: Componenten samenvatting | J1: Project resultaten
O2: Ondersteuning
A3: Nummer | B3: Naam van het component | C3: Materiaal | D3: Hoeveelheid | E3: Eenheid | F3: Label | G3: Punten
B4: =IF('0. Lijst van componenten'!B6="","",'0. Lijst van componenten'!B6) -> Asfalt rijbaan | C4: =IF('0. Lijst van componenten'!C6="","",'0. Lijst van componenten'!C6) -> Asfalt | D4: =IF('0. Lijst van componenten'!D6="","",'0. Lijst van componenten'!D6) | E4: =IF('0. Lijst van componenten'!E6="","",'0. Lijst van componenten'!E6) -> kg | F4: E | G4: 58 | J4: Totalen punten | K4: =SUM(G4:G54) -> 501 | P4: Totale score | Q4: Bereik | R4: Bovengrens
A5: 1 | B5: =IF('0. Lijst van componenten'!B7="","",'0. Lijst van componenten'!B7) -> Asfalt fietsstrook | C5: =IF('0. Lijst van componenten'!C7="","",'0. Lijst van componenten'!C7) -> Asfalt | D5: =IF('0. Lijst van componenten'!D7="","",'0. Lijst van componenten'!D7) | E5: =IF('0. Lijst van componenten'!E7="","",'0. Lijst van componenten'!E7) -> kg | F5: D | G5: 70 | J5: Aantal componenten | K5: =COUNT(G4:G54) -> 6 | P5: A | Q5: 250+ | R5: 350
A6: 2 | B6: =IF('0. Lijst van componenten'!B8="","",'0. Lijst van componenten'!B8) -> Markering rijbaan | C6: =IF('0. Lijst van componenten'!C8="","",'0. Lijst van componenten'!C8) -> Thermoplastmarkering | D6: =IF('0. Lijst van componenten'!D8="","",'0. Lijst van componenten'!D8) | E6: =IF('0. Lijst van componenten'!E8="","",'0. Lijst van componenten'!E8) | F6: F | G6: 40 | J6: Gemiddeld aantal punten | K6: =AVERAGE(G4:G54) -> 83.5 | P6: B | Q6: 200-249 | R6: 250
A7: 3 | B7: =IF('0. Lijst van componenten'!B9="","",'0. Lijst van componenten'!B9) -> Kolken in rijbaan | C7: =IF('0. Lijst van componenten'!C9="","",'0. Lijst van componenten'!C9) -> Gietijzer en kunststof | D7: =IF('0. Lijst van componenten'!D9="","",'0. Lijst van componenten'!D9) | E7: =IF('0. Lijst van componenten'!E9="","",'0. Lijst van componenten'!E9) | F7: C | G7: 93 | P7: C | Q7: 170-199 | R7: 200
A8: 4 | B8: =IF('0. Lijst van componenten'!B10="","",'0. Lijst van componenten'!B10) -> Middengeleiders | C8: =IF('0. Lijst van componenten'!C10="","",'0. Lijst van componenten'!C10) -> Kleurvaste gele betonstraatstenen | D8: =IF('0. Lijst van componenten'!D10="","",'0. Lijst van componenten'!D10) | E8: =IF('0. Lijst van componenten'!E10="","",'0. Lijst van componenten'!E10) | F8: B | G8: 120 | J8: Score label | K8: =IF(K6<R11,"G",IF(K6<R10,"F",IF(K6<R9,"E",IF(K6<R8,"D",IF(K6<R7,"C",IF(K6<R6,"B",IF(K6>=R6,"A","Mistake"))))))) -> E | P8: D | Q8: 120-169 | R8: 170
A9: 5 | B9: =IF('0. Lijst van componenten'!B11="","",'0. Lijst van componenten'!B11) -> Trottoir | C9: =IF('0. Lijst van componenten'!C11="","",'0. Lijst van componenten'!C11) -> Beton trottoirtegels | D9: =IF('0. Lijst van componenten'!D11="","",'0. Lijst van componenten'!D11) | E9: =IF('0. Lijst van componenten'!E11="","",'0. Lijst van componenten'!E11) | F9: B | G9: 120 | P9: E | Q9: 80-119 | R9: 120
A10: 6 | B10: =IF('0. Lijst van componenten'!B12="","",'0. Lijst van componenten'!B12) | C10: =IF('0. Lijst van componenten'!C12="","",'0. Lijst van componenten'!C12) | D10: =IF('0. Lijst van componenten'!D12="","",'0. Lijst van componenten'!D12) | E10: =IF('0. Lijst van componenten'!E12="","",'0. Lijst van componenten'!E12) | P10: F | Q10: 40-79 | R10: 80
A11: 7 | B11: =IF('0. Lijst van componenten'!B13="","",'0. Lijst van componenten'!B13) | C11: =IF('0. Lijst van componenten'!C13="","",'0. Lijst van componenten'!C13) | D11: =IF('0. Lijst van componenten'!D13="","",'0. Lijst van componenten'!D13) | E11: =IF('0. Lijst van componenten'!E13="","",'0. Lijst van componenten'!E13) | P11: G | Q11: 0-39 | R11: 40
A12: 8 | B12: =IF('0. Lijst van componenten'!B14="","",'0. Lijst van componenten'!B14) | C12: =IF('0. Lijst van componenten'!C14="","",'0. Lijst van componenten'!C14) | D12: =IF('0. Lijst van componenten'!D14="","",'0. Lijst van componenten'!D14) | E12: =IF('0. Lijst van componenten'!E14="","",'0. Lijst van componenten'!E14)
A13: 9 | B13: =IF('0. Lijst van componenten'!B15="","",'0. Lijst van componenten'!B15) | C13: =IF('0. Lijst van componenten'!C15="","",'0. Lijst van componenten'!C15) | D13: =IF('0. Lijst van componenten'!D15="","",'0. Lijst van componenten'!D15) | E13: =IF('0. Lijst van componenten'!E15="","",'0. Lijst van componenten'!E15)
A14: 10 | B14: =IF('0. Lijst van componenten'!B16="","",'0. Lijst van componenten'!B16) | C14: =IF('0. Lijst van componenten'!C16="","",'0. Lijst van componenten'!C16) | D14: =IF('0. Lijst van componenten'!D16="","",'0. Lijst van componenten'!D16) | E14: =IF('0. Lijst van componenten'!E16="","",'0. Lijst van componenten'!E16) | P14: Score CPI
A15: 11 | B15: =IF('0. Lijst van componenten'!B17="","",'0. Lijst van componenten'!B17) | C15: =IF('0. Lijst van componenten'!C17="","",'0. Lijst van componenten'!C17) | D15: =IF('0. Lijst van componenten'!D17="","",'0. Lijst van componenten'!D17) | E15: =IF('0. Lijst van componenten'!E17="","",'0. Lijst van componenten'!E17) | P15: A
A16: 12 | B16: =IF('0. Lijst van componenten'!B18="","",'0. Lijst van componenten'!B18) | C16: =IF('0. Lijst van componenten'!C18="","",'0. Lijst van componenten'!C18) | D16: =IF('0. Lijst van componenten'!D18="","",'0. Lijst van componenten'!D18) | E16: =IF('0. Lijst van componenten'!E18="","",'0. Lijst van componenten'!E18) | P16: B
A17: 13 | B17: =IF('0. Lijst van componenten'!B19="","",'0. Lijst van componenten'!B19) | C17: =IF('0. Lijst van componenten'!C19="","",'0. Lijst van componenten'!C19) | D17: =IF('0. Lijst van componenten'!D19="","",'0. Lijst van componenten'!D19) | E17: =IF('0. Lijst van componenten'!E19="","",'0. Lijst van componenten'!E19) | P17: C
A18: 14 | B18: =IF('0. Lijst van componenten'!B20="","",'0. Lijst van componenten'!B20) | C18: =IF('0. Lijst van componenten'!C20="","",'0. Lijst van componenten'!C20) | D18: =IF('0. Lijst van componenten'!D20="","",'0. Lijst van componenten'!D20) | E18: =IF('0. Lijst van componenten'!E20="","",'0. Lijst van componenten'!E20) | P18: D
A19: 15 | B19: =IF('0. Lijst van componenten'!B21="","",'0. Lijst van componenten'!B21) | C19: =IF('0. Lijst van componenten'!C21="","",'0. Lijst van componenten'!C21) | D19: =IF('0. Lijst van componenten'!D21="","",'0. Lijst van componenten'!D21) | E19: =IF('0. Lijst van componenten'!E21="","",'0. Lijst van componenten'!E21) | P19: E
A20: 16 | B20: =IF('0. Lijst van componenten'!B22="","",'0. Lijst van componenten'!B22) | C20: =IF('0. Lijst van componenten'!C22="","",'0. Lijst van componenten'!C22) | D20: =IF('0. Lijst van componenten'!D22="","",'0. Lijst van componenten'!D22) | E20: =IF('0. Lijst van componenten'!E22="","",'0. Lijst van componenten'!E22) | P20: F
A21: 17 | B21: =IF('0. Lijst van componenten'!B23="","",'0. Lijst van componenten'!B23) | C21: =IF('0. Lijst van componenten'!C23="","",'0. Lijst van componenten'!C23) | D21: =IF('0. Lijst van componenten'!D23="","",'0. Lijst van componenten'!D23) | E21: =IF('0. Lijst van componenten'!E23="","",'0. Lijst van componenten'!E23) | P21: G
A22: 18 | B22: =IF('0. Lijst van componenten'!B24="","",'0. Lijst van componenten'!B24) | C22: =IF('0. Lijst van componenten'!C24="","",'0. Lijst van componenten'!C24) | D22: =IF('0. Lijst van componenten'!D24="","",'0. Lijst van componenten'!D24) | E22: =IF('0. Lijst van componenten'!E24="","",'0. Lijst van componenten'!E24)
A23: 19 | B23: =IF('0. Lijst van componenten'!B25="","",'0. Lijst van componenten'!B25) | C23: =IF('0. Lijst van componenten'!C25="","",'0. Lijst van componenten'!C25) | D23: =IF('0. Lijst van componenten'!D25="","",'0. Lijst van componenten'!D25) | E23: =IF('0. Lijst van componenten'!E25="","",'0. Lijst van componenten'!E25) | S23: l
A24: 20 | B24: =IF('0. Lijst van componenten'!B26="","",'0. Lijst van componenten'!B26) | C24: =IF('0. Lijst van componenten'!C26="","",'0. Lijst van componenten'!C26) | D24: =IF('0. Lijst van componenten'!D26="","",'0. Lijst van componenten'!D26) | E24: =IF('0. Lijst van componenten'!E26="","",'0. Lijst van componenten'!E26)
A25: 21 | B25: =IF('0. Lijst van componenten'!B27="","",'0. Lijst van componenten'!B27) | C25: =IF('0. Lijst van componenten'!C27="","",'0. Lijst van componenten'!C27) | D25: =IF('0. Lijst van componenten'!D27="","",'0. Lijst van componenten'!D27) | E25: =IF('0. Lijst van componenten'!E27="","",'0. Lijst van componenten'!E27)
A26: 22 | B26: =IF('0. Lijst van componenten'!B28="","",'0. Lijst van componenten'!B28) | C26: =IF('0. Lijst van componenten'!C28="","",'0. Lijst van componenten'!C28) | D26: =IF('0. Lijst van componenten'!D28="","",'0. Lijst van componenten'!D28) | E26: =IF('0. Lijst van componenten'!E28="","",'0. Lijst van componenten'!E28)
A27: 23 | B27: =IF('0. Lijst van componenten'!B29="","",'0. Lijst van componenten'!B29) | C27: =IF('0. Lijst van componenten'!C29="","",'0. Lijst van componenten'!C29) | D27: =IF('0. Lijst van componenten'!D29="","",'0. Lijst van componenten'!D29) | E27: =IF('0. Lijst van componenten'!E29="","",'0. Lijst van componenten'!E29)
A28: 24 | B28: =IF('0. Lijst van componenten'!B30="","",'0. Lijst van componenten'!B30) | C28: =IF('0. Lijst van componenten'!C30="","",'0. Lijst van componenten'!C30) | D28: =IF('0. Lijst van componenten'!D30="","",'0. Lijst van componenten'!D30) | E28: =IF('0. Lijst van componenten'!E30="","",'0. Lijst van componenten'!E30)
A29: 25 | B29: =IF('0. Lijst van componenten'!B31="","",'0. Lijst van componenten'!B31) | C29: =IF('0. Lijst van componenten'!C31="","",'0. Lijst van componenten'!C31) | D29: =IF('0. Lijst van componenten'!D31="","",'0. Lijst van componenten'!D31) | E29: =IF('0. Lijst van componenten'!E31="","",'0. Lijst van componenten'!E31)
A30: 26 | B30: =IF('0. Lijst van componenten'!B32="","",'0. Lijst van componenten'!B32) | C30: =IF('0. Lijst van componenten'!C32="","",'0. Lijst van componenten'!C32) | D30: =IF('0. Lijst van componenten'!D32="","",'0. Lijst van componenten'!D32) | E30: =IF('0. Lijst van componenten'!E32="","",'0. Lijst van componenten'!E32)
A31: 27 | B31: =IF('0. Lijst van componenten'!B33="","",'0. Lijst van componenten'!B33) | C31: =IF('0. Lijst van componenten'!C33="","",'0. Lijst van componenten'!C33) | D31: =IF('0. Lijst van componenten'!D33="","",'0. Lijst van componenten'!D33) | E31: =IF('0. Lijst van componenten'!E33="","",'0. Lijst van componenten'!E33)
A32: 28 | B32: =IF('0. Lijst van componenten'!B34="","",'0. Lijst van componenten'!B34) | C32: =IF('0. Lijst van componenten'!C34="","",'0. Lijst van componenten'!C34) | D32: =IF('0. Lijst van componenten'!D34="","",'0. Lijst van componenten'!D34) | E32: =IF('0. Lijst van componenten'!E34="","",'0. Lijst van componenten'!E34)
A33: 29 | B33: =IF('0. Lijst van componenten'!B35="","",'0. Lijst van componenten'!B35) | C33: =IF('0. Lijst van componenten'!C35="","",'0. Lijst van componenten'!C35) | D33: =IF('0. Lijst van componenten'!D35="","",'0. Lijst van componenten'!D35) | E33: =IF('0. Lijst van componenten'!E35="","",'0. Lijst van componenten'!E35)
A34: 30 | B34: =IF('0. Lijst van componenten'!B36="","",'0. Lijst van componenten'!B36) | C34: =IF('0. Lijst van componenten'!C36="","",'0. Lijst van componenten'!C36) | D34: =IF('0. Lijst van componenten'!D36="","",'0. Lijst van componenten'!D36) | E34: =IF('0. Lijst van componenten'!E36="","",'0. Lijst van componenten'!E36)
A35: 31 | B35: =IF('0. Lijst van componenten'!B37="","",'0. Lijst van componenten'!B37) | C35: =IF('0. Lijst van componenten'!C37="","",'0. Lijst van componenten'!C37) | D35: =IF('0. Lijst van componenten'!D37="","",'0. Lijst van componenten'!D37) | E35: =IF('0. Lijst van componenten'!E37="","",'0. Lijst van componenten'!E37)
... A54: 50 | B54: =IF('0. Lijst van componenten'!B56="","",'0. Lijst van componenten'!B56) | C54: =IF('0. Lijst van componenten'!C56="","",'0. Lijst van componenten'!C56) | D54: =IF('0. Lijst van componenten'!D56="","",'0. Lijst van componenten'!D56) | E54: =IF('0. Lijst van componenten'!E56="","",'0. Lijst van componenten'!E56)
